Workbook

Sheet LULU Balance Sheet (1)
A1: LULULEMON ATHLETICA INC (LULU) CashFlowFlag BALANCE SHEET
A2: Fiscal year ends in January. USD in thousands except per share data. | B2: 2018-01 | C2: 2019-01
A3: Assets
A4: Current assets
A5: Cash | D5: Absolute | E5: %Change
A6: Cash and cash equivalents | B6: 990501 | C6: 881320 | D6: =C6-B6 -> -109181 | E6: =(C6-B6)/B6 -> -0.11022806
A7: Total cash | B7: 990501 | C7: 881320 | D7: =C7-B7 -> -109181 | E7: =(C7-B7)/B7 -> -0.11022806
A8: Receivables | B8: 19173 | C8: 35786 | D8: =C8-B8 -> 16613 | E8: =(C8-B8)/B8 -> 0.8664789
A9: Inventories | B9: 329562 | C9: 404842 | D9: =C9-B9 -> 75280 | E9: =(C9-B9)/B9 -> 0.22842439
A10: Prepaid expenses | B10: 97046 | C10: 107334 | D10: =C10-B10 -> 10288 | E10: =(C10-B10)/B10 -> 0.10601158
A11: Total current assets | B11: 1436282 | C11: 1429282 | D11: =C11-B11 -> -7000 | E11: =(C11-B11)/B11 -> -0.0048736947
A12: Non-current assets
A13: Property, plant and equipment
A14: Gross property, plant and equipment | B14: 817350 | C14: 972481 | D14: =C14-B14 -> 155131 | E14: =(C14-B14)/B14 -> 0.18979752
A15: Accumulated Depreciation | B15: -343708 | C15: -405244 | D15: =C15-B15 -> -61536 | E15: =(C15-B15)/B15 -> 0.17903569
A16: Net property, plant and equipment | B16: 473642 | C16: 567237 | D16: =C16-B16 -> 93595 | E16: =(C16-B16)/B16 -> 0.19760705
A17: Goodwill | B17: 24606 | C17: 24239 | D17: =C17-B17 -> -367 | E17: =(C17-B17)/B17 -> -0.014915061
A18: Intangible assets | B18: 73 | C18: 0 | D18: =C18-B18 -> -73 | E18: =(C18-B18)/B18 -> -1
A19: Deferred income taxes | B19: 32491 | C19: 26549 | D19: =C19-B19 -> -5942 | E19: =(C19-B19)/B19 -> -0.18288141
A20: Other long-term assets | B20: 31389 | C20: 37404 | D20: =C20-B20 -> 6015 | E20: =(C20-B20)/B20 -> 0.19162764
A21: Total non-current assets | B21: 562201 | C21: 655429 | D21: =C21-B21 -> 93228 | E21: =(C21-B21)/B21 -> 0.16582681
A22: Total assets | B22: 1998483 | C22: 2084711 | D22: =C22-B22 -> 86228 | E22: =(C22-B22)/B22 -> 0.043146727
A23: Liabilities and stockholders' equity
A24: Liabilities
A25: Current liabilities
A26: Accounts payable | B26: 24646 | C26: 95533 | D26: =C26-B26 -> 70887 | E26: =(C26-B26)/B26 -> 2.8762071
A27: Taxes payable | B27: 27511 | C27: 83503 | D27: =C27-B27 -> 55992 | E27: =(C27-B27)/B27 -> 2.0352586
A28: Accrued liabilities | B28: 59510 | C28: 84812 | D28: =C28-B28 -> 25302 | E28: =(C28-B28)/B28 -> 0.42517224
A29: Deferred revenues | B29: 82668 | C29: 107457 | D29: =C29-B29 -> 24789 | E29: =(C29-B29)/B29 -> 0.2998621
A30: Other current liabilities | B30: 98263 | C30: 129172 | D30: =C30-B30 -> 30909 | E30: =(C30-B30)/B30 -> 0.3145538
A31: Total current liabilities | B31: 292598 | C31: 500477 | D31: =C31-B31 -> 207879 | E31: =(C31-B31)/B31 -> 0.7104594
A32: Non-current liabilities
A33: Deferred taxes liabilities | B33: 1336 | C33: 14249 | D33: =C33-B33 -> 12913 | E33: =(C33-B33)/B33 -> 9.6654192
A34: Other long-term liabilities | B34: 107589 | C34: 124010 | D34: =C34-B34 -> 16421 | E34: =(C34-B34)/B34 -> 0.15262713
A35: Total non-current liabilities | B35: 108925 | C35: 138259 | D35: =C35-B35 -> 29334 | E35: =(C35-B35)/B35 -> 0.26930457
A36: Total liabilities | B36: 401523 | C36: 638736 | D36: =C36-B36 -> 237213 | E36: =(C36-B36)/B36 -> 0.59078309
A37: Stockholders' equity
A38: Common stock | B38: 628 | C38: 608 | D38: =C38-B38 -> -20 | E38: =(C38-B38)/B38 -> -0.031847134
A39: Additional paid-in capital | B39: 284253 | C39: 315285 | D39: =C39-B39 -> 31032 | E39: =(C39-B39)/B39 -> 0.10917035
A40: Retained earnings | B40: 1455002 | C40: 1346890 | D40: =C40-B40 -> -108112 | E40: =(C40-B40)/B40 -> -0.074303678
...

Sheet NKE Balance Sheet (1)
A1: NIKE INC B (NKE) CashFlowFlag BALANCE SHEET
A2: Fiscal year ends in May. USD in millions except per share data. | B2: 2018-05 | C2: 2019-05
A3: Assets
A4: Current assets | D4: Absolute Change | G4: Nike %Change | H4: Lulu % Change
A5: Cash
A6: Cash and cash equivalents | B6: 4249 | C6: 4466 | D6: =C6-B6 -> 217 | E6: =(C6-B6)/B6 -> 0.05107084 | F6: =A6 -> Cash and cash equivalents | G6: =E6 -> 0.05107084 | H6: ='LULU Balance Sheet (1)'!E6 -> -0.11022806
A7: Short-term investments | B7: 996 | C7: 197 | D7: =C7-B7 -> -799 | E7: =(C7-B7)/B7 -> -0.80220884 | F7: =A13 -> Total current assets | G7: =E13 -> 0.091912251 | H7: ='LULU Balance Sheet (1)'!E11 -> -0.0048736947
A8: Total cash | B8: 5245 | C8: 4663 | D8: =C8-B8 -> -582 | E8: =(C8-B8)/B8 -> -0.11096282 | F8: =A23 -> Total assets | G8: =E23 -> 0.052405041 | H8: ='LULU Balance Sheet (1)'!E22 -> 0.043146727
A9: Receivables | B9: 3498 | C9: 4272 | D9: =C9-B9 -> 774 | E9: =(C9-B9)/B9 -> 0.2212693 | F9: =A32 -> Total current liabilities | G9: =E32 -> 0.30231788 | H9: ='LULU Balance Sheet (1)'!E31 -> 0.7104594
A10: Inventories | B10: 5261 | C10: 5622 | D10: =C10-B10 -> 361 | E10: =(C10-B10)/B10 -> 0.068618133 | F10: =A37 -> Total liabilities | G10: =E37 -> 0.15348947 | H10: ='LULU Balance Sheet (1)'!E36 -> 0.59078309
A11: Deferred income taxes | F11: =A42 -> Total stockholders' equity | G11: =E42 -> -0.078679168 | H11: ='LULU Balance Sheet (1)'!E42 -> -0.094545261
A12: Prepaid expenses | B12: 1130 | C12: 1968 | D12: =C12-B12 -> 838 | E12: =(C12-B12)/B12 -> 0.74159292
A13: Total current assets | B13: 15134 | C13: 16525 | D13: =C13-B13 -> 1391 | E13: =(C13-B13)/B13 -> 0.091912251
A14: Non-current assets
A15: Property, plant and equipment
A16: Gross property, plant and equipment | B16: 8891 | C16: 9469 | D16: =C16-B16 -> 578 | E16: =(C16-B16)/B16 -> 0.06500956
A17: Accumulated Depreciation | B17: -4437 | C17: -4725 | D17: =C17-B17 -> -288 | E17: =(C17-B17)/B17 -> 0.064908722
A18: Net property, plant and equipment | B18: 4454 | C18: 4744 | D18: =C18-B18 -> 290 | E18: =(C18-B18)/B18 -> 0.065110013
A19: Goodwill | B19: 154 | C19: 154 | D19: =C19-B19 -> 0 | E19: =(C19-B19)/B19 -> 0
A20: Intangible assets | B20: 285 | C20: 283 | D20: =C20-B20 -> -2 | E20: =(C20-B20)/B20 -> -0.0070175439
A21: Deferred income taxes | B21: 2509 | C21: 2011 | D21: =C21-B21 -> -498 | E21: =(C21-B21)/B21 -> -0.19848545
A22: Total non-current assets | B22: 7402 | C22: 7192 | D22: =C22-B22 -> -210 | E22: =(C22-B22)/B22 -> -0.028370711
A23: Total assets | B23: 22536 | C23: 23717 | D23: =C23-B23 -> 1181 | E23: =(C23-B23)/B23 -> 0.052405041
A24: Liabilities and stockholders' equity
A25: Liabilities
A26: Current liabilities
A27: Short-term debt | B27: 342 | C27: 15 | D27: =C27-B27 -> -327 | E27: =(C27-B27)/B27 -> -0.95614035
A28: Accounts payable | B28: 2279 | C28: 2612 | D28: =C28-B28 -> 333 | E28: =(C28-B28)/B28 -> 0.14611672
A29: Taxes payable | B29: 374 | C29: 463 | D29: =C29-B29 -> 89 | E29: =(C29-B29)/B29 -> 0.23796791
A30: Accrued liabilities | B30: 1219 | C30: 1504 | D30: =C30-B30 -> 285 | E30: =(C30-B30)/B30 -> 0.2337982
A31: Other current liabilities | B31: 1826 | C31: 3272 | D31: =C31-B31 -> 1446 | E31: =(C31-B31)/B31 -> 0.79189485
A32: Total current liabilities | B32: 6040 | C32: 7866 | D32: =C32-B32 -> 1826 | E32: =(C32-B32)/B32 -> 0.30231788
A33: Non-current liabilities
A34: Long-term debt | B34: 3468 | C34: 3464 | D34: =C34-B34 -> -4 | E34: =(C34-B34)/B34 -> -0.0011534025
A35: Deferred taxes liabilities | B35: 3216 | C35: 3347 | D35: =C35-B35 -> 131 | E35: =(C35-B35)/B35 -> 0.040733831
A36: Total non-current liabilities | B36: 6684 | C36: 6811 | D36: =C36-B36 -> 127 | E36: =(C36-B36)/B36 -> 0.019000598
A37: Total liabilities | B37: 12724 | C37: 14677 | D37: =C37-B37 -> 1953 | E37: =(C37-B37)/B37 -> 0.15348947
A38: Stockholders' equity
A39: Additional paid-in capital | B39: 6387 | C39: 7166 | D39: =C39-B39 -> 779 | E39: =(C39-B39)/B39 -> 0.12196649
A40: Retained earnings | B40: 3517 | C40: 1643 | D40: =C40-B40 -> -1874 | E40: =(C40-B40)/B40 -> -0.53284049
...

Sheet LULU Income Statement (1)
A1: LULULEMON ATHLETICA INC (LULU) INCOME STATEMENT
A2: Fiscal year ends in January. USD in thousands except per share data. | B2: 2018-01 | C2: 2019-01 | D2: Absolute Change | E2: % Change
A3: Revenue | B3: 2649181 | C3: 3288319 | D3: =C3-B3 -> 639138 | E3: =(C3-B3)/B3 -> 0.24125871
A4: Cost of revenue | B4: 1250391 | C4: 1472032 | D4: =C4-B4 -> 221641 | E4: =(C4-B4)/B4 -> 0.17725735
A5: Gross profit | B5: 1398790 | C5: 1816287 | D5: =C5-B5 -> 417497 | E5: =(C5-B5)/B5 -> 0.29847011
A6: Operating expenses
A7: Sales, General and administrative | B7: 904264 | C7: 1110451 | D7: =C7-B7 -> 206187 | E7: =(C7-B7)/B7 -> 0.22801638
A8: Restructuring, merger and acquisition | B8: 26932 | D8: =C8-B8 -> -26932 | E8: =(C8-B8)/B8 -> -1
A9: Other operating expenses | B9: -26932 | D9: =C9-B9 -> 26932 | E9: =(C9-B9)/B9 -> -1
A10: Total operating expenses | B10: 904264 | C10: 1110451 | D10: =C10-B10 -> 206187 | E10: =(C10-B10)/B10 -> 0.22801638
A11: Operating income | B11: 494526 | C11: 705836 | D11: =C11-B11 -> 211310 | E11: =(C11-B11)/B11 -> 0.42729806
A12: Other income (expense) | B12: -34528 | C12: 9414 | D12: =C12-B12 -> 43942 | E12: =(C12-B12)/B12 -> -1.2726483
A13: Income before taxes | B13: 459998 | C13: 715250 | D13: =C13-B13 -> 255252 | E13: =(C13-B13)/B13 -> 0.55489806
A14: Provision for income taxes | B14: 201336 | C14: 231449 | D14: =C14-B14 -> 30113 | E14: =(C14-B14)/B14 -> 0.1495659
A15: Net income from continuing operations | B15: 258662 | C15: 483801 | D15: =C15-B15 -> 225139 | E15: =(C15-B15)/B15 -> 0.87039844
A16: Net income | B16: 258662 | C16: 483801 | D16: =C16-B16 -> 225139 | E16: =(C16-B16)/B16 -> 0.87039844
A17: Net income available to common shareholders | B17: 258662 | C17: 483801 | D17: =C17-B17 -> 225139 | E17: =(C17-B17)/B17 -> 0.87039844
A18: Earnings per share
A19: Basic | B19: 1.9 | C19: 3.63 | D19: =C19-B19 -> 1.73 | E19: =(C19-B19)/B19 -> 0.91052632
A20: Diluted | B20: 1.9 | C20: 3.61 | D20: =C20-B20 -> 1.71 | E20: =(C20-B20)/B20 -> 0.9
A21: Weighted average shares outstanding
A22: Basic | B22: 135988 | C22: 133413 | D22: =C22-B22 -> -2575 | E22: =(C22-B22)/B22 -> -0.018935494
A23: Diluted | B23: 136198 | C23: 133971 | D23: =C23-B23 -> -2227 | E23: =(C23-B23)/B23 -> -0.016351195
A24: EBITDA | B24: 602761 | C24: 828320 | D24: =C24-B24 -> 225559 | E24: =(C24-B24)/B24 -> 0.37420968
A26: Supporting Schudule
A27: Interest Expense | B27: 0 | C27: 0

Sheet NKE Income Statement (1)
A1: NIKE INC B (NKE) CashFlowFlag INCOME STATEMENT | D1: Abs. Change | E1: % Change
A2: Fiscal year ends in May. USD in millions except per share data. | B2: 2018 | C2: 2019 | D2: USD (Millions) | E2: Nike % Change | H2: Nike % Change | I2: Lulu % Change
A3: Revenue | B3: 36397 | C3: 39117 | D3: =C3-B3 -> 2720 | E3: =(C3-B3)/B3 -> 0.074731434 | G3: =A3 -> Revenue | H3: =E3 -> 0.074731434 | I3: ='LULU Income Statement (1)'!E3 -> 0.24125871
A4: Cost of revenue | B4: 20441 | C4: 21643 | D4: =C4-B4 -> 1202 | E4: =(C4-B4)/B4 -> 0.058803385 | G4: =A4 -> Cost of revenue | H4: =E4 -> 0.058803385 | I4: ='LULU Income Statement (1)'!E4 -> 0.17725735
A5: Gross profit | B5: 15956 | C5: 17474 | D5: =C5-B5 -> 1518 | E5: =(C5-B5)/B5 -> 0.095136626 | G5: =A5 -> Gross profit | H5: =E5 -> 0.095136626 | I5: ='LULU Income Statement (1)'!E5 -> 0.29847011
A6: Sales, General and administrative | B6: 11511 | C6: 12702 | D6: =C6-B6 -> 1191 | E6: =(C6-B6)/B6 -> 0.10346625 | G6: =A13 -> Net income | H6: =E13 -> 1.0843249 | I6: ='LULU Income Statement (1)'!E16 -> 0.87039844
A7: Total operating expenses | B7: 11511 | C7: 12702 | D7: =C7-B7 -> 1191 | E7: =(C7-B7)/B7 -> 0.10346625 | G7: =A8 -> Operating income | H7: =E8 -> 0.073565804 | I7: ='LULU Income Statement (1)'!E11 -> 0.42729806
A8: Operating income | B8: 4445 | C8: 4772 | D8: =C8-B8 -> 327 | E8: =(C8-B8)/B8 -> 0.073565804 | G8: =A9 -> Other income (expense) | H8: =E9 -> -1.2416667 | I8: ='LULU Income Statement (1)'!E12 -> -1.2726483
A9: Other income (expense) | B9: -120 | C9: 29 | D9: =C9-B9 -> 149 | E9: =(C9-B9)/B9 -> -1.2416667 | G9: =A7 -> Total operating expenses | H9: =E7 -> 0.10346625 | I9: ='LULU Income Statement (1)'!E10 -> 0.22801638
A10: Income before taxes | B10: 4325 | C10: 4801 | D10: =C10-B10 -> 476 | E10: =(C10-B10)/B10 -> 0.1100578
A11: Provision for income taxes | B11: 2392 | C11: 772 | D11: =C11-B11 -> -1620 | E11: =(C11-B11)/B11 -> -0.67725753
A12: Net income from continuing operations | B12: 1933 | C12: 4029 | D12: =C12-B12 -> 2096 | E12: =(C12-B12)/B12 -> 1.0843249
A13: Net income | B13: 1933 | C13: 4029 | D13: =C13-B13 -> 2096 | E13: =(C13-B13)/B13 -> 1.0843249
A14: Net income available to common shareholders | B14: 1933 | C14: 4029 | D14: =C14-B14 -> 2096 | E14: =(C14-B14)/B14 -> 1.0843249
A15: Earnings per share
A16: Basic | B16: 1.19 | C16: 2.55 | D16: =C16-B16 -> 1.36 | E16: =(C16-B16)/B16 -> 1.1428571
A17: Diluted | B17: 1.17 | C17: 2.49 | D17: =C17-B17 -> 1.32 | E17: =(C17-B17)/B17 -> 1.1282051
A18: Weighted average shares outstanding
A19: Basic | B19: 1624 | C19: 1580 | D19: =C19-B19 -> -44 | E19: =(C19-B19)/B19 -> -0.027093596
A20: Diluted | B20: 1659 | C20: 1618 | D20: =C20-B20 -> -41 | E20: =(C20-B20)/B20 -> -0.024713683
A21: EBITDA | B21: 5219 | C21: 5492 | D21: =C21-B21 -> 273 | E21: =(C21-B21)/B21 -> 0.052308871
A22: Supporting Schudule
A23: Interest Expense | B23: 124 | C23: 131 | D23: =C23-B23 -> 7 | E23: =(C23-B23)/B23 -> 0.056451613

Sheet Ratio Analysis 
A1: Formular | B1: Ratio | C1: Company | D1: ='NKE Income Statement (1)'!B2 -> 2018 | E1: ='NKE Income Statement (1)'!C2 -> 2019
A2: D/E =total liabilities/ shareholder equity | B2: Return on sales =Net Income/Sales | C2: Nike | D2: ='NKE Income Statement (1)'!B13/'NKE Income Statement (1)'!B3 -> 0.053108773 | E2: ='NKE Income Statement (1)'!C13/'NKE Income Statement (1)'!C3 -> 0.1029987
C3: Lululemon | D3: ='LULU Income Statement (1)'!B16/'LULU Income Statement (1)'!B3 -> 0.097638478 | E3: ='LULU Income Statement (1)'!C16/'LULU Income Statement (1)'!C3 -> 0.14712715
A4: Return on Assets=Net Income /Average Total Assets | B4: Return on Assets=Net Income/Avg. Total Asset | C4: Nike | D4: ='NKE Income Statement (1)'!B11/(('NKE Balance Sheet (1)'!B23)) -> 0.10614129 | E4: ='NKE Income Statement (1)'!C11/(('NKE Balance Sheet (1)'!C23)) -> 0.032550491
C5: Lululemon | D5: ='LULU Income Statement (1)'!B14/'LULU Balance Sheet (1)'!B22 -> 0.10074441 | E5: ='LULU Income Statement (1)'!C14/'LULU Balance Sheet (1)'!C22 -> 0.1110221
A6: Return on Equity=Net Income /Shareholders' Equity | B6: Return on Equity =Net Income/Avg. Total Stockholder’s Equity | C6: Nike | D6: ='NKE Income Statement (1)'!B13/'NKE Balance Sheet (1)'!B42 -> 0.19700367 | E6: ='NKE Income Statement (1)'!C13/'NKE Balance Sheet (1)'!C42 -> 0.44568584
C7: Lululemon | D7: ='LULU Income Statement (1)'!B16/'LULU Balance Sheet (1)'!B42 -> 0.1619715 | E7: ='LULU Income Statement (1)'!C16/'LULU Balance Sheet (1)'!C42 -> 0.33458462
A8: Asset Turnover =Revenue/Average total assets | B8: Asset Turnover (ATO)=Sales/ Avg. Total Asset | C8: Nike | D8: ='NKE Income Statement (1)'!B4/'NKE Balance Sheet (1)'!B23 -> 0.90703763 | E8: ='NKE Income Statement (1)'!C4/'NKE Balance Sheet (1)'!C23 -> 0.91255218
C9: Lululemon | D9: ='LULU Income Statement (1)'!B4/'LULU Balance Sheet (1)'!B22 -> 0.62567007 | E9: ='LULU Income Statement (1)'!C4/(('LULU Balance Sheet (1)'!B22+'LULU Balance Sheet (1)'!C22)/2) -> 0.72101987
B10: Financial Leverage=Average Asset/Avg. Stockholder’s Equity | C10: Nike | D10: ='NKE Balance Sheet (1)'!B13/'NKE Balance Sheet (1)'!B42 -> 1.5423971 | E10: ='NKE Balance Sheet (1)'!C13/'NKE Balance Sheet (1)'!C42 -> 1.8279867
C11: Lululemon | D11: ='LULU Balance Sheet (1)'!B22/'LULU Balance Sheet (1)'!B42 -> 1.2514296 | E11: ='LULU Balance Sheet (1)'!C22/'LULU Balance Sheet (1)'!C42 -> 1.4417338
B12: DuPont analysis, ROE = ROS x Asset Turnover x Financial Leverage | C12: Nike | D12: =D10*D8*D2 -> 0.07429982 | E12: =E10*E8*E2 -> 0.17181555
C13: Lululemon | D13: =D11*D9*D3 -> 0.076449175 | E13: =E11*E9*E3 -> 0.15294142

Sheet Horizontal analysis -Income 

Sheet Hoeuzontal Balnce sheet 
